BEGIN:VCALENDAR
VERSION:2.0
CALSCALE:GREGORIAN
PRODID:adamgibbons/ics
METHOD:PUBLISH
X-PUBLISHED-TTL:PT1H
BEGIN:VEVENT
UID:394@buffalol.askapunk.net
SUMMARY:Mormon Mincers\, Ate\, Dollmaker\, Miss Guerrilla Fighter
DTSTAMP:20260423T070242Z
DTSTART:20260523T233000Z
URL:https://buffalo.askapunk.net/event/mormon-mincers-ate-dollmaker-miss-gu
	errilla-fighter
LOCATION:The Wastelands - Ask A Punk
STATUS:CONFIRMED
CATEGORIES:ATE,Dollmaker,G.A.G.S.,Miss Guerrilla Fighter,Mormon Mincers,Was
	telands
END:VEVENT
END:VCALENDAR
